BEGIN:VCALENDAR
VERSION:2.0
PRODID:-//wp-events-plugin.com//7.2.3.1//EN
TZID:America/New_York
X-WR-TIMEZONE:America/New_York
BEGIN:VEVENT
UID:1651@swconline.org
DTSTART;TZID=America/New_York:20240228T163000
DTEND;TZID=America/New_York:20240228T190000
DTSTAMP:20240205T193347Z
URL:https://swconline.org/calendar-of-events/swc-wellness-dinner-art-for-l
 ife-9/
SUMMARY:SWC Wellness Dinner & Art For Life
DESCRIPTION:\n\nSWC Wellness Dinner for people living with HIV/AIDS and the
 ir loved ones. Doors open at 4:30 pm for social time and  beverages. Dinn
 er served at 5:15pm. Program from 6 – 7pm.\n\nShepherd Wellness Communit
 y has updated its COVID 19 policies\, procedures\, mitigation efforts and
  safety protocols. We no longer require proof of COVID vaccination to a
 ttend SWC events.\n\nIf you have a confirmed positive test after attendin
 g SWC\, please contact us immediately: 412 683 4477 or office@swconline.
 org. \n\nAT THIS TIME MASKS ARE OPTIONAL\, NOT REQUIRED\, WHEN IN THE SW
 C BUILDING. \n\nRegardless of vaccination status\, you should isolate fr
 om others when you have tested positive for COVID-19 and before returning 
 to SWC functions.\n\nIf you test positive for COVID-19\, please stay home
  for at least 5 days and isolate from others in your home. You are likely 
 infectious during the first 5 days.\n\nOnce symptoms begin improving you m
 ay return to SWC functions after day 5 if you are fever-free for 24 hours
  (without the use of fever-reducing medication)\, AND you have a negative 
 test for COVID-19.  You must continue to mask through day 10.\n\nPlease c
 all SWC (412 683 4477) with any questions\, or to confirm when you may ret
 urn to SWC functions after testing positive.\n\nIf your symptoms are not i
 mproving or you had moderate illness (you experienced shortness of breath
  or had difficulty breathing) you need to continue to isolate through day
  10. If you experienced severe illness or have a weakened immune system we
  request you consult your doctor before returning to SWC functions.\n\nIf 
 you are unsure if your symptoms are moderate or severe or if you have a we
 akened immune system\, talk to a healthcare provider for further guidance 
 and before returning to SWC functions.\nIF YOU DO NOT FEEL WELL\, PLEASE D
 O NOT COME TO AN IN-PERSON DINNER OR PROGRAM.\nWednesday night at our cent
 er in Bloomfield\, located at 4800 Sciota St. (S. Mathilda &amp\; Sciota)\
 n4:30pm - Doors open on S. Mathilda St. for beverages &amp\; social time\n
 5:15 pm - Dinner Served\n\n6 -7pm - Art For Life | Brant uses art to unlea
 sh your creativity\, improve health and promote emotional well-being. Each
  certified member completing this program receives a $5 gift card. Certifi
 ed members and their guest are welcome.
CATEGORIES:Program,Wellness Dinner
LOCATION:Shepherd Wellness Community\, 4800 Sciota Street\, Pittsburgh\, PA
 \, 15224\, United States
X-APPLE-STRUCTURED-LOCATION;VALUE=URI;X-ADDRESS=4800 Sciota Street\, Pittsb
 urgh\, PA\, 15224\, United States;X-APPLE-RADIUS=100;X-TITLE=Shepherd Well
 ness Community:geo:0,0
END:VEVENT
BEGIN:VTIMEZONE
TZID:America/New_York
X-LIC-LOCATION:America/New_York
BEGIN:STANDARD
DTSTART:20231105T010000
TZOFFSETFROM:-0400
TZOFFSETTO:-0500
TZNAME:EST
END:STANDARD
END:VTIMEZONE
END:VCALENDAR