BEGIN:VCALENDAR
VERSION:2.0
PRODID:-//wp-events-plugin.com//7.2.3.1//EN
TZID:America/New_York
X-WR-TIMEZONE:America/New_York
BEGIN:VEVENT
UID:1357@swconline.org
DTSTART;TZID=America/New_York:20230712T163000
DTEND;TZID=America/New_York:20230712T190000
DTSTAMP:20230629T143112Z
URL:https://swconline.org/calendar-of-events/swc-wellness-dinner-art-for-l
 ife-3/
SUMMARY:SWC Wellness Dinner & Art For Life
DESCRIPTION:SWC will be relocating temporarily while our building undergoes
  repairs to our sewage system.  Wellness dinners and programs will be hel
 d at the Pittsburgh Theological Seminary located at 616 N. Highland Avenue
 \, Pittsburgh\, PA 15206 (just north of Home Depot and across from Obama A
 cademy). \n\nWhen arriving at the seminary\, there will be signs to guide
  you to our exact location. Our dinners are being held in Long Hall and ev
 eryone should enter using the covered walkway between Long Hall and McNaug
 her Hall.\n\nParking is available on N. Highland Ave or on the seminary ca
 mpus.\n\nIf parking on N. Highland Ave or taking the bus\, walk thru the s
 outh gateway (closer to Home Depot) and go to the covered walkway. You can
  make a left to Long Hall and follow the signage to our location.\n\nIf pa
 rking on the campus\, construction has closed several driveway entrances t
 o the campus. Going north on Highland Avenue\, use the drive/entrance just
  past the Chapel\, then drive down past the chapel (on your right) and dri
 ve around the back to the right and park near the end closest to McNaugher
  Hall (please see the area marked “campus parking” on the PTS Campus 
 Map). All parking up the slope before the covered walkway leading to Long 
 Hall is handicap parking.   Go to the covered walkway and make a right i
 nto Long Hall and follow the signs to our location.\n\nSWC Wellness Dinner
  for people living with HIV/AIDS and their loved ones. Doors open at 4:30 
 pm for social time and  beverages. Dinner served at 5:15pm. Program from 
 6 – 7pm.\n\nWe STRONGLY ENCOURAGE Covid Vaccination and Boosters for 
 anyone eligible for them. Vaccination is not required at this time to atte
 nd SWC events. \n\nIf you have a confirmed positive test after attending 
 SWC\, please contact us immediately: 412 683 4477 or office@swconline.org
 .\n\nWe will monitor COVID-19 and will update you if additional changes to
  our programs become necessary.\n\nIF YOU DO NOT FEEL WELL\, PLEASE DO NOT
  COME TO AN IN-PERSON DINNER OR PROGRAM.\n\nWednesday night at Pittsburgh 
 Theological Seminary (PTS)\, located at 616 N. Highland Avenue\, Pittsburg
 h\, PA 15206 (just north of Home Depot and across from Obama Academy).\n\n
 4:30pm – Doors open at PTS for beverages &amp\; social time\n\n5:15 pm
  – Dinner Served\n6 -7pm – Art For Life | Art Therapist Brant uses art
  to help you unleash your creativity\, improve your health and promote emo
 tional well-being. Each certified member completing this program receives 
 a $5 gift card. Children and guest of certified members are welcome.
CATEGORIES:Program,Wellness Dinner
END:VEVENT
BEGIN:VTIMEZONE
TZID:America/New_York
X-LIC-LOCATION:America/New_York
BEGIN:DAYLIGHT
DTSTART:20230312T030000
TZOFFSETFROM:-0500
TZOFFSETTO:-0400
TZNAME:EDT
END:DAYLIGHT
END:VTIMEZONE
END:VCALENDAR