BEGIN:VCALENDAR
VERSION:2.0
PRODID:-//wp-events-plugin.com//7.2.3.1//EN
TZID:America/New_York
X-WR-TIMEZONE:America/New_York
BEGIN:VEVENT
UID:1374@swconline.org
DTSTART;TZID=America/New_York:20230811T163000
DTEND;TZID=America/New_York:20230811T193000
DTSTAMP:20230725T163029Z
URL:https://swconline.org/calendar-of-events/swc-wellness-dinner-annual-sw
 c-member-meeting/
SUMMARY:SWC Wellness Dinner & Annual SWC Member Meeting
DESCRIPTION:Doors open at 4:30pm for appetizers &amp\; beverages\, Meeting 
 starts at 5:15pm\, Dinner will be served at 6:15pm.\nThere will be no Supp
 ort Group on 8/11.\n\nMeeting Agenda Includes:\nWelcome\nFinancial Update\
 nElections for the SWC Board of Directors
CATEGORIES:Wellness Dinner
LOCATION:Shepherd Wellness Community\, 4800 Sciota Street\, Pittsburgh\, PA
 \, 15224\, United States
X-APPLE-STRUCTURED-LOCATION;VALUE=URI;X-ADDRESS=4800 Sciota Street\, Pittsb
 urgh\, PA\, 15224\, United States;X-APPLE-RADIUS=100;X-TITLE=Shepherd Well
 ness Community:geo:0,0
END:VEVENT
BEGIN:VTIMEZONE
TZID:America/New_York
X-LIC-LOCATION:America/New_York
BEGIN:DAYLIGHT
DTSTART:20230312T030000
TZOFFSETFROM:-0500
TZOFFSETTO:-0400
TZNAME:EDT
END:DAYLIGHT
END:VTIMEZONE
END:VCALENDAR