BEGIN:VCALENDAR
VERSION:2.0
PRODID:-//wp-events-plugin.com//7.2.3.1//EN
TZID:America/New_York
X-WR-TIMEZONE:America/New_York
BEGIN:VEVENT
UID:883@swconline.org
DTSTART;TZID=America/New_York:20220115T140000
DTEND;TZID=America/New_York:20220115T153000
DTSTAMP:20220114T143824Z
URL:https://swconline.org/calendar-of-events/swc-virtual-support-group/
SUMMARY:SWC Virtual Support Group
DESCRIPTION:The support group occurs at 2 pm on Saturday and will continue 
 while programs at our center are temporarily suspended during the COVID-19
  outbreak.\n\nOpen to all HIV+ people. For call-in instructions\, send us 
 an email at office@swconline.org
END:VEVENT
BEGIN:VTIMEZONE
TZID:America/New_York
X-LIC-LOCATION:America/New_York
BEGIN:STANDARD
DTSTART:20211107T010000
TZOFFSETFROM:-0400
TZOFFSETTO:-0500
TZNAME:EST
END:STANDARD
END:VTIMEZONE
END:VCALENDAR