BEGIN:VCALENDAR
VERSION:2.0
PRODID:-//wp-events-plugin.com//7.2.3.1//EN
TZID:America/New_York
X-WR-TIMEZONE:America/New_York
BEGIN:VEVENT
UID:1322@swconline.org
DTSTART;TZID=America/New_York:20230430T110000
DTEND;TZID=America/New_York:20230430T133000
DTSTAMP:20230417T165857Z
URL:https://swconline.org/calendar-of-events/swc-sunday-brunch-1-hour-hiv-
 support-group/
SUMMARY:SWC Sunday Brunch & 1 Hour HIV Support Group
DESCRIPTION:SWC Wellness Brunch for people living with HIV/AIDS and their l
 oved ones. Join us for a special 1 hour support group and a Sunday Coronat
 ion Brunch in our dining room. Doors open at 11am for beverages\, light ap
 petizers\, and socializing. Support group at 11:30am. Brunch fit for a Kin
 g or Queen!\, served at 12:30pm.\n\nShepherd Wellness Community has update
 d its Covid 19 policies\, procedures\, mitigation efforts and safety prot
 ocols. These updates have been made based on current County\, State\, and 
 Federal public health guidelines. Effective immediately we will no longe
 r require proof of vaccination to attend SWC events.  We have simplifie
 d and revised our Covid 19 waiver which will continue to be required at in
 -person dinners and programs.\n\nMasking will remain optional when the CD
 C lists community risk as low in Allegheny County. If community risk leve
 ls move to medium or higher we will once again require masking except when
  eating or drinking.\n\nWe STRONGLY ENCOURAGE Covid Vaccination and Boo
 sters for anyone eligible for them.\n\nWhen the community risk rate is li
 sted as high as determined by the CDC we will require a NEGATIVE COVID ra
 pid test\, taken that day\, to attend each in-person dinner/program. Plea
 se refer to our weekly newsletter/email or contact the SWC Office directly
  if you need to verify if testing is being required. To receive our emails
  please sign up on the front page of this website.\n\nWhen testing is requ
 ired you must either present your test result (or a photo)\, taken at home
  that day\, when you check in. SWC will have tests available for you to ta
 ke on arrival. Please plan accordingly – IF YOU REQUIRE TESTING AT SWC\
 , you must arrive no later than 5:25 pm on Monday or Wednesday evenings\, 
 and no later than 6:45pm on Friday evenings. We have COVID-19 rapid test
 s for you to take home\, please request them from a staff member if needed
 .\n\nIf you have a confirmed positive test after attending SWC\, please co
 ntact us immediately: 412 683 4477 or office@swconline.org.\n\nWe will mo
 nitor COVID-19 and will update you if additional changes to our programs b
 ecome necessary.\n\nIF YOU DO NOT FEEL WELL\, PLEASE DO NOT COME TO AN IN-
 PERSON DINNER OR PROGRAM.\n\nSunday at our center in Bloomfield\, located 
 at 4800 Sciota St. (S. Mathilda &amp\; Sciota)\nJoin us for an uplifting s
 ocial time\, HIV support group followed by a nutritious brunch.\n11:00 am 
 - Doors open on S. Mathilda St. for beverages\, light appetizers &amp\; so
 cial time\n11:30a m - 1 Hour HIV support group\n12:30pm - Brunch served in
  our Dining room and Drag show featuring Drag King Jami Starling as\nFredd
 y Mercury of QUEEN
CATEGORIES:Brunch,Wellness Dinner
LOCATION:Shepherd Wellness Community\, 4800 Sciota Street\, Pittsburgh\, PA
 \, 15224\, United States
X-APPLE-STRUCTURED-LOCATION;VALUE=URI;X-ADDRESS=4800 Sciota Street\, Pittsb
 urgh\, PA\, 15224\, United States;X-APPLE-RADIUS=100;X-TITLE=Shepherd Well
 ness Community:geo:0,0
END:VEVENT
BEGIN:VTIMEZONE
TZID:America/New_York
X-LIC-LOCATION:America/New_York
BEGIN:DAYLIGHT
DTSTART:20230312T030000
TZOFFSETFROM:-0500
TZOFFSETTO:-0400
TZNAME:EDT
END:DAYLIGHT
END:VTIMEZONE
END:VCALENDAR