BEGIN:VCALENDAR
VERSION:2.0
PRODID:-//wp-events-plugin.com//7.2.3.1//EN
TZID:America/New_York
X-WR-TIMEZONE:America/New_York
BEGIN:VEVENT
UID:882@swconline.org
DTSTART;TZID=America/New_York:20220117T000000
DTEND;TZID=America/New_York:20220117T000000
DTSTAMP:20211215T162703Z
URL:https://swconline.org/calendar-of-events/swc-is-closed-monday-january-
 17-2022/
SUMMARY:SWC is closed Monday\, January 17\, 2022 for MLK Day
DESCRIPTION:SWC will be closed in observance of the Martin Luther King\, Jr
 . Holiday
END:VEVENT
BEGIN:VTIMEZONE
TZID:America/New_York
X-LIC-LOCATION:America/New_York
BEGIN:STANDARD
DTSTART:20211107T010000
TZOFFSETFROM:-0400
TZOFFSETTO:-0500
TZNAME:EST
END:STANDARD
END:VTIMEZONE
END:VCALENDAR