BEGIN:VCALENDAR
VERSION:2.0
PRODID:-//wp-events-plugin.com//7.2.3.1//EN
TZID:America/New_York
X-WR-TIMEZONE:America/New_York
BEGIN:VEVENT
UID:926@swconline.org
DTSTART;TZID=America/New_York:20220518T110000
DTEND;TZID=America/New_York:20220518T160000
DTSTAMP:20220504T140232Z
URL:https://swconline.org/calendar-of-events/swc-frozen-wellness-meal-pick
 up-program-3/
SUMMARY:SWC Frozen Wellness Meal Pickup Program
DESCRIPTION:Each certified member can pick-up three fully-cooked frozen mea
 ls weekly on Tuesdays and Wednesdays only. Call our office at 412-683-4477
  on the day you are coming so we can confirm your certification status and
  have your pick-up ready. Meet us under the canopy beside our entrance wit
 h a table for contactless pick-up. If you cannot come\, you can have a lov
 ed one pick up your meals\, but you (our member) must call to let us know 
 who is coming on your behalf.  Gas reimbursement and bus tickets will be 
 provided for meal pick-up for certified members.\n\n&nbsp\;
CATEGORIES:Frozen Meals
LOCATION:Shepherd Wellness Community\, 4800 Sciota Street\, Pittsburgh\, PA
 \, 15224\, United States
X-APPLE-STRUCTURED-LOCATION;VALUE=URI;X-ADDRESS=4800 Sciota Street\, Pittsb
 urgh\, PA\, 15224\, United States;X-APPLE-RADIUS=100;X-TITLE=Shepherd Well
 ness Community:geo:0,0
END:VEVENT
BEGIN:VTIMEZONE
TZID:America/New_York
X-LIC-LOCATION:America/New_York
BEGIN:DAYLIGHT
DTSTART:20220313T030000
TZOFFSETFROM:-0500
TZOFFSETTO:-0400
TZNAME:EDT
END:DAYLIGHT
END:VTIMEZONE
END:VCALENDAR