BEGIN:VCALENDAR
VERSION:2.0
PRODID:-//wp-events-plugin.com//7.2.3.1//EN
TZID:America/New_York
X-WR-TIMEZONE:America/New_York
BEGIN:VEVENT
UID:1612@swconline.org
DTSTART;TZID=America/New_York:20231213T163000
DTEND;TZID=America/New_York:20231213T193000
DTSTAMP:20231117T171418Z
URL:https://swconline.org/calendar-of-events/swc-dinner-1-hour-hiv-support
 -group-2/
SUMMARY:SWC Dinner & 1 Hour HIV Support Group
DESCRIPTION:\n\nSWC Wellness Dinner for people living with HIV/AIDS and the
 ir loved ones. Doors open at 4:30 pm for social time and  beverages. Dinn
 er served at 5:15pm. Support Group at 6pm.\n\nShepherd Wellness Community 
 has updated its COVID 19 policies\, procedures\, mitigation efforts and s
 afety protocols. We no longer require proof of COVID vaccination to att
 end SWC events. Masking is optional.\n\nWe STRONGLY ENCOURAGE COVID Va
 ccination and Boosters for anyone eligible for them.\n\nIf you have a con
 firmed positive test after attending SWC\, please contact us immediately: 
 412 683 4477 or office@swconline.org.\n\nIF YOU DO NOT FEEL WELL\, PLEASE
  DO NOT COME TO AN IN-PERSON DINNER OR PROGRAM.\n\nWednesday night at our 
 center in Bloomfield\, located at 4800 Sciota St. (S. Mathilda &amp\; Scio
 ta)\nJoin us for an uplifting social time\, HIV support group followed by 
 a nutritious dinner.\n4:30pm - Doors open on S. Mathilda St. for beverages
  &amp\; social time\n5:15pm - Dinner served in our Dining room\n6- 7 pm - 
 HIV Support Group (Zoom option available)
CATEGORIES:Wellness Dinner
LOCATION:Shepherd Wellness Community\, 4800 Sciota Street\, Pittsburgh\, PA
 \, 15224\, United States
X-APPLE-STRUCTURED-LOCATION;VALUE=URI;X-ADDRESS=4800 Sciota Street\, Pittsb
 urgh\, PA\, 15224\, United States;X-APPLE-RADIUS=100;X-TITLE=Shepherd Well
 ness Community:geo:0,0
END:VEVENT
BEGIN:VTIMEZONE
TZID:America/New_York
X-LIC-LOCATION:America/New_York
BEGIN:STANDARD
DTSTART:20231105T010000
TZOFFSETFROM:-0400
TZOFFSETTO:-0500
TZNAME:EST
END:STANDARD
END:VTIMEZONE
END:VCALENDAR