BEGIN:VCALENDAR
VERSION:2.0
PRODID:-//wp-events-plugin.com//7.2.3.1//EN
TZID:America/New_York
X-WR-TIMEZONE:America/New_York
BEGIN:VEVENT
UID:843@swconline.org
DTSTART;TZID=America/New_York:20211029T170000
DTEND;TZID=America/New_York:20211029T183000
DTSTAMP:20211029T194233Z
URL:https://swconline.org/calendar-of-events/swc-conference-call-support-g
 roup-2021-10-29/
SUMMARY:SWC Virtual HIV/AIDS Support Group
DESCRIPTION:The support group occurs at 5 pm on Friday and will continue wh
 ile programs at our center are temporarily suspended during the COVID-19 o
 utbreak.\n\nOpen to all HIV+ people. For call-in instructions\, send us an
  email at office@swconline.org
END:VEVENT
BEGIN:VTIMEZONE
TZID:America/New_York
X-LIC-LOCATION:America/New_York
BEGIN:DAYLIGHT
DTSTART:20210314T030000
TZOFFSETFROM:-0500
TZOFFSETTO:-0400
TZNAME:EDT
END:DAYLIGHT
END:VTIMEZONE
END:VCALENDAR