BEGIN:VCALENDAR
VERSION:2.0
PRODID:-//wp-events-plugin.com//7.2.3.1//EN
TZID:America/New_York
X-WR-TIMEZONE:America/New_York
BEGIN:VEVENT
UID:4383@swconline.org
DTSTART;TZID=America/New_York;VALUE=DATE:20251229
DTEND;TZID=America/New_York;VALUE=DATE:20251230
DTSTAMP:20251113T172614Z
URL:https://swconline.org/calendar-of-events/swc-closed-3/
SUMMARY:SWC closed
DESCRIPTION:
CATEGORIES:SWC Closed
END:VEVENT
BEGIN:VTIMEZONE
TZID:America/New_York
X-LIC-LOCATION:America/New_York
BEGIN:STANDARD
DTSTART:20251102T010000
TZOFFSETFROM:-0400
TZOFFSETTO:-0500
TZNAME:EST
END:STANDARD
END:VTIMEZONE
END:VCALENDAR