BEGIN:VCALENDAR
VERSION:2.0
PRODID:-//wp-events-plugin.com//7.2.3.1//EN
TZID:America/New_York
X-WR-TIMEZONE:America/New_York
BEGIN:VEVENT
UID:4385@swconline.org
DTSTART;TZID=America/New_York:20251207T110000
DTEND;TZID=America/New_York:20251207T133000
DTSTAMP:20251205T173657Z
URL:https://swconline.org/calendar-of-events/swc-allies-for-health-wellbei
 ng-holiday-brunch/
SUMMARY:SWC & Allies For Health + Wellbeing Holiday Brunch
DESCRIPTION:Door open at 11:30am - Socializing &amp\;  Beverages \n\nBrun
 ch served at noon to 12:30pm \n\nFollowed by gift raffles and caroling.\n
 \nReservations for this event were due Nov. 14th.
CATEGORIES:Program,Special Event
END:VEVENT
BEGIN:VTIMEZONE
TZID:America/New_York
X-LIC-LOCATION:America/New_York
BEGIN:STANDARD
DTSTART:20251102T010000
TZOFFSETFROM:-0400
TZOFFSETTO:-0500
TZNAME:EST
END:STANDARD
END:VTIMEZONE
END:VCALENDAR