BEGIN:VCALENDAR
VERSION:2.0
PRODID:-//wp-events-plugin.com//7.2.3.1//EN
TZID:America/New_York
X-WR-TIMEZONE:America/New_York
BEGIN:VEVENT
UID:1006@swconline.org
DTSTART;TZID=America/New_York:20221020T180000
DTEND;TZID=America/New_York:20221020T200000
DTSTAMP:20220915T140749Z
URL:https://swconline.org/calendar-of-events/swc-35th-anniversary-drop-in-
 open-house/
SUMMARY:SWC 35th Anniversary Drop In Open House
DESCRIPTION:An evening with friends\, food\, memories\, music\, and more!\n
 No RSVP needed.\n\nProof of COVID-19 vaccination required. Masks required 
 unless seated and actively eating and drinking.\n\nIf you have a confirme
 d positive test after attending SWC\, please contact us immediately: 412 
 683 4477 or office@swconline.org.\n\nA HEALTH QUESTIONNAIRE AND WAIVER OF
  LIABILITY will be completed and signed at check-in each time you come int
 o our center. IF YOU DO NOT FEEL WELL\, PLEASE DO NOT COME TO AN IN-PERSON
  DINNER.\n\n&nbsp\;
CATEGORIES:Program,Wellness Dinner
LOCATION:Shepherd Wellness Community\, 4800 Sciota Street\, Pittsburgh\, PA
 \, 15224\, United States
X-APPLE-STRUCTURED-LOCATION;VALUE=URI;X-ADDRESS=4800 Sciota Street\, Pittsb
 urgh\, PA\, 15224\, United States;X-APPLE-RADIUS=100;X-TITLE=Shepherd Well
 ness Community:geo:0,0
END:VEVENT
BEGIN:VTIMEZONE
TZID:America/New_York
X-LIC-LOCATION:America/New_York
BEGIN:DAYLIGHT
DTSTART:20220313T030000
TZOFFSETFROM:-0500
TZOFFSETTO:-0400
TZNAME:EDT
END:DAYLIGHT
END:VTIMEZONE
END:VCALENDAR