BEGIN:VCALENDAR
VERSION:2.0
PRODID:-//wp-events-plugin.com//7.2.3.1//EN
TZID:America/New_York
X-WR-TIMEZONE:America/New_York
BEGIN:VEVENT
UID:923@swconline.org
DTSTART;TZID=America/New_York:20220428T093000
DTEND;TZID=America/New_York:20220428T150000
DTSTAMP:20220331T192042Z
URL:https://swconline.org/calendar-of-events/reservations-required-for-fri
 day-wellness-dinners-2022-04-28/
SUMMARY:Reservations Required for Friday Wellness Dinners
DESCRIPTION:Reservations must be made for Friday Wellness Dinners by callin
 g the SWC office at (412) 683-4477 and speaking directly to a staff member
  (voicemail/email reservations are not accepted) during the designated res
 ervation times. Reservations accepted for the Friday dinner that week\, up
  to two days before the dinner. You may make a reservation for yourself an
 d one guest (spouse/partner/significant other). Vaccination\, masking\, an
 d questionnaire/waiver requirements apply. You may also make reservations 
 for your children under 18 (as their parent or legal guardian).
LOCATION:Shepherd Wellness Community\, 4800 Sciota Street\, Pittsburgh\, PA
 \, 15224\, United States
X-APPLE-STRUCTURED-LOCATION;VALUE=URI;X-ADDRESS=4800 Sciota Street\, Pittsb
 urgh\, PA\, 15224\, United States;X-APPLE-RADIUS=100;X-TITLE=Shepherd Well
 ness Community:geo:0,0
END:VEVENT
BEGIN:VTIMEZONE
TZID:America/New_York
X-LIC-LOCATION:America/New_York
BEGIN:DAYLIGHT
DTSTART:20220313T030000
TZOFFSETFROM:-0500
TZOFFSETTO:-0400
TZNAME:EDT
END:DAYLIGHT
END:VTIMEZONE
END:VCALENDAR