BEGIN:VCALENDAR
VERSION:2.0
PRODID:-//wp-events-plugin.com//7.2.3.1//EN
TZID:America/New_York
X-WR-TIMEZONE:America/New_York
BEGIN:VEVENT
UID:848@swconline.org
DTSTART;TZID=America/New_York:20211201T190000
DTEND;TZID=America/New_York:20211201T190000
DTSTAMP:20211129T155534Z
URL:https://swconline.org/calendar-of-events/pitt-mens-study-virtual-world
 -aids-day-event/
SUMMARY:Pitt Men's Study Virtual World AIDS Day Event
DESCRIPTION:Wednesday\, December 1\, 2021 - This year the Pitt Men's Study
  will observe World AIDS Day virtually\, through on-line presentations and
  activities. Further information and access to the event can be found here
END:VEVENT
BEGIN:VTIMEZONE
TZID:America/New_York
X-LIC-LOCATION:America/New_York
BEGIN:STANDARD
DTSTART:20211107T010000
TZOFFSETFROM:-0400
TZOFFSETTO:-0500
TZNAME:EST
END:STANDARD
END:VTIMEZONE
END:VCALENDAR