BEGIN:VCALENDAR
VERSION:2.0
PRODID:-//wp-events-plugin.com//7.2.3.1//EN
TZID:America/New_York
X-WR-TIMEZONE:America/New_York
BEGIN:VEVENT
UID:1055@swconline.org
DTSTART;TZID=America/New_York:20230121T183000
DTEND;TZID=America/New_York:20230121T220000
DTSTAMP:20221221T151257Z
URL:https://swconline.org/calendar-of-events/outrageous-bingo-9/
SUMMARY:OUTrageous Bingo
DESCRIPTION:A benefit at Rodef Shalom for the PGH Equality Center and Sheph
 erd Wellness Community. Doors open at 6:30pm and games begin at 7:30pm. Al
 l tickets are sold online at outrageousbingopgh.org.
LOCATION:Rodef Shalom\, 4905 Fifth Avenue\, Pittsburgh\, Pennsylvania\, 152
 13\, United States
X-APPLE-STRUCTURED-LOCATION;VALUE=URI;X-ADDRESS=4905 Fifth Avenue\, Pittsbu
 rgh\, Pennsylvania\, 15213\, United States;X-APPLE-RADIUS=100;X-TITLE=Rode
 f Shalom:geo:0,0
END:VEVENT
BEGIN:VTIMEZONE
TZID:America/New_York
X-LIC-LOCATION:America/New_York
BEGIN:STANDARD
DTSTART:20221106T010000
TZOFFSETFROM:-0400
TZOFFSETTO:-0500
TZNAME:EST
END:STANDARD
END:VTIMEZONE
END:VCALENDAR