BEGIN:VCALENDAR
VERSION:2.0
PRODID:-//wp-events-plugin.com//7.2.3.1//EN
TZID:America/New_York
X-WR-TIMEZONE:America/New_York
BEGIN:VEVENT
UID:1328@swconline.org
DTSTART;TZID=America/New_York:20230416T183000
DTEND;TZID=America/New_York:20230416T220000
DTSTAMP:20230323T193452Z
URL:https://swconline.org/calendar-of-events/outrageous-bingo-12/
SUMMARY:OUTrageous Bingo
DESCRIPTION:A benefit at Rodef Shalom for the PGH Equality Center and Sheph
 erd Wellness Community. Doors open at 5 pm and games begin at 6 pm. All ti
 ckets are sold online at outrageousbingopgh.org.
CATEGORIES:OUTrageous Bingo
LOCATION:Rodef Shalom\, 4905 Fifth Avenue\, Pittsburgh\, Pennsylvania\, 152
 13\, United States
X-APPLE-STRUCTURED-LOCATION;VALUE=URI;X-ADDRESS=4905 Fifth Avenue\, Pittsbu
 rgh\, Pennsylvania\, 15213\, United States;X-APPLE-RADIUS=100;X-TITLE=Rode
 f Shalom:geo:0,0
END:VEVENT
BEGIN:VTIMEZONE
TZID:America/New_York
X-LIC-LOCATION:America/New_York
BEGIN:DAYLIGHT
DTSTART:20230312T030000
TZOFFSETFROM:-0500
TZOFFSETTO:-0400
TZNAME:EDT
END:DAYLIGHT
END:VTIMEZONE
END:VCALENDAR