BEGIN:VCALENDAR
VERSION:2.0
PRODID:-//wp-events-plugin.com//7.2.3.1//EN
TZID:America/New_York
X-WR-TIMEZONE:America/New_York
BEGIN:VEVENT
UID:4106@swconline.org
DTSTART;TZID=America/New_York:20240715T180000
DTEND;TZID=America/New_York:20240715T184500
DTSTAMP:20240620T155646Z
URL:https://swconline.org/calendar-of-events/massage-therapy/
SUMMARY:Massage Therapy
DESCRIPTION:\n\n15 minute therapeutic chair massage appointments are availa
 ble at no cost to our certified members from 6-6:45pm. See Daequan at a di
 nner to schedule your appointment and learn appointment guidelines.\n\nFor
  information about Shepherd Wellness Community’s COVID-19 policies\, pro
 cedures\, mitigation efforts and safety protocols click here.\n\n\n\n\nMo
 nday night chair massages at our center in Bloomfield\, located at 4800 Sc
 iota St. (S. Mathilda &amp\; Sciota)\n\n\n\n6 - 6:15pmpm - First session\n
 6:15 - 6:30 pm - Second session\n\n6:30 - 6:45 pm - Last session\n\n&nbsp\
 ;
CATEGORIES:Program,Wellness Dinner
LOCATION:Shepherd Wellness Community\, 4800 Sciota Street\, Pittsburgh\, PA
 \, 15224\, United States
X-APPLE-STRUCTURED-LOCATION;VALUE=URI;X-ADDRESS=4800 Sciota Street\, Pittsb
 urgh\, PA\, 15224\, United States;X-APPLE-RADIUS=100;X-TITLE=Shepherd Well
 ness Community:geo:0,0
END:VEVENT
BEGIN:VTIMEZONE
TZID:America/New_York
X-LIC-LOCATION:America/New_York
BEGIN:DAYLIGHT
DTSTART:20240310T030000
TZOFFSETFROM:-0500
TZOFFSETTO:-0400
TZNAME:EDT
END:DAYLIGHT
END:VTIMEZONE
END:VCALENDAR