BEGIN:VCALENDAR
VERSION:2.0
PRODID:-//wp-events-plugin.com//7.2.3.1//EN
TZID:America/New_York
X-WR-TIMEZONE:America/New_York
BEGIN:VEVENT
UID:894@swconline.org
DTSTART;TZID=America/New_York:20220326T140000
DTEND;TZID=America/New_York:20220326T153000
DTSTAMP:20220114T152155Z
URL:https://swconline.org/calendar-of-events/hiv-support-group-2-330-pm-20
 22-03-26/
SUMMARY:HIV Support Group 2-3:30 pm
DESCRIPTION:The support group occurs at 2 pm on Saturday and will continue 
 while programs at our center are temporarily suspended during the COVID-19
  outbreak.\n\nOpen to all HIV+ people. For call-in instructions\, send us 
 an email at office@swconline.org
END:VEVENT
BEGIN:VTIMEZONE
TZID:America/New_York
X-LIC-LOCATION:America/New_York
BEGIN:DAYLIGHT
DTSTART:20220313T030000
TZOFFSETFROM:-0500
TZOFFSETTO:-0400
TZNAME:EDT
END:DAYLIGHT
END:VTIMEZONE
END:VCALENDAR