BEGIN:VCALENDAR
VERSION:2.0
PRODID:-//wp-events-plugin.com//7.2.3.1//EN
TZID:America/New_York
X-WR-TIMEZONE:America/New_York
BEGIN:VEVENT
UID:891@swconline.org
DTSTART;TZID=America/New_York:20220305T140000
DTEND;TZID=America/New_York:20220305T153000
DTSTAMP:20220114T152155Z
URL:https://swconline.org/calendar-of-events/hiv-support-group-2-330-pm-20
 22-03-05/
SUMMARY:HIV Support Group 2-3:30 pm
DESCRIPTION:The support group occurs at 2 pm on Saturday and will continue 
 while programs at our center are temporarily suspended during the COVID-19
  outbreak.\n\nOpen to all HIV+ people. For call-in instructions\, send us 
 an email at office@swconline.org
END:VEVENT
BEGIN:VTIMEZONE
TZID:America/New_York
X-LIC-LOCATION:America/New_York
BEGIN:STANDARD
DTSTART:20211107T010000
TZOFFSETFROM:-0400
TZOFFSETTO:-0500
TZNAME:EST
END:STANDARD
END:VTIMEZONE
END:VCALENDAR