BEGIN:VCALENDAR
VERSION:2.0
PRODID:-//wp-events-plugin.com//7.2.3.1//EN
TZID:America/New_York
X-WR-TIMEZONE:America/New_York
BEGIN:VEVENT
UID:953@swconline.org
DTSTART;TZID=America/New_York:20220524T100000
DTEND;TZID=America/New_York:20220524T150000
DTSTAMP:20220513T164021Z
URL:https://swconline.org/calendar-of-events/green-thumb-garden-planting-w
 orkshop/
SUMMARY:Green Thumb Garden Planting Workshop
DESCRIPTION:Gardening reduces stress\, builds friendships\, and teaches us 
 about how produce and herbs can improve wellness. Lunch will be provided. 
 Each certified member completing this program receives a $5 gift card. Adu
 lts only. Your participation will also enter you in a raffle to win a 43
 ” Flatscreen TV!\n\n&nbsp\;
CATEGORIES:Program
LOCATION:Shepherd Wellness Community\, 4800 Sciota Street\, Pittsburgh\, PA
 \, 15224\, United States
X-APPLE-STRUCTURED-LOCATION;VALUE=URI;X-ADDRESS=4800 Sciota Street\, Pittsb
 urgh\, PA\, 15224\, United States;X-APPLE-RADIUS=100;X-TITLE=Shepherd Well
 ness Community:geo:0,0
END:VEVENT
BEGIN:VTIMEZONE
TZID:America/New_York
X-LIC-LOCATION:America/New_York
BEGIN:DAYLIGHT
DTSTART:20220313T030000
TZOFFSETFROM:-0500
TZOFFSETTO:-0400
TZNAME:EDT
END:DAYLIGHT
END:VTIMEZONE
END:VCALENDAR