BEGIN:VCALENDAR
VERSION:2.0
PRODID:-//wp-events-plugin.com//7.2.3.1//EN
TZID:America/New_York
X-WR-TIMEZONE:America/New_York
BEGIN:VEVENT
UID:2499@swconline.org
DTSTART;TZID=America/New_York:20260124T113000
DTEND;TZID=America/New_York:20260124T123000
DTSTAMP:20251216T160544Z
URL:https://swconline.org/calendar-of-events/get-more-information-about-ev
 ents-activities-2026-01-24/
SUMMARY:Heinz History Center outing
DESCRIPTION:SWC will buy tickets for our certified members\, and their chil
 dren under 18\, and one guest. Certified members and their guest will pay 
 a $5 copay for each ticket. Children of certified members are free. For ti
 ckets please RSVP in person at a dinner by Fri 1/23. Meet us in the main l
 obby at the Heinz History Center 1212 Smallman St\, Pittsburgh\, PA 15222 
 between 11:30 am and 12:30 pm for your ticket. Exhibits include: photos of
  Pittsburgh\, glass displays\, “Pittsburgh: A Tradition of Innovation”
  and more.
CATEGORIES:Outing
END:VEVENT
BEGIN:VTIMEZONE
TZID:America/New_York
X-LIC-LOCATION:America/New_York
BEGIN:STANDARD
DTSTART:20251102T010000
TZOFFSETFROM:-0400
TZOFFSETTO:-0500
TZNAME:EST
END:STANDARD
END:VTIMEZONE
END:VCALENDAR