BEGIN:VCALENDAR
VERSION:2.0
PRODID:-//wp-events-plugin.com//7.2.3.1//EN
TZID:America/New_York
X-WR-TIMEZONE:America/New_York
BEGIN:VEVENT
UID:2477@swconline.org
DTSTART;TZID=America/New_York:20260102T060000
DTEND;TZID=America/New_York:20260102T061500
DTSTAMP:20251113T172418Z
URL:https://swconline.org/calendar-of-events/get-more-information-about-ev
 ents-activities-2026-01-02/
SUMMARY:SWC Open
DESCRIPTION:SWC office will be open. There will be no wellness dinner or su
 pport group. First dinner of 2026 will be on Monday\, Jan 5. 
CATEGORIES:Program
LOCATION:Shepherd Wellness Community\, 4800 Sciota Street\, Pittsburgh\, PA
 \, 15224\, United States
X-APPLE-STRUCTURED-LOCATION;VALUE=URI;X-ADDRESS=4800 Sciota Street\, Pittsb
 urgh\, PA\, 15224\, United States;X-APPLE-RADIUS=100;X-TITLE=Shepherd Well
 ness Community:geo:0,0
END:VEVENT
BEGIN:VTIMEZONE
TZID:America/New_York
X-LIC-LOCATION:America/New_York
BEGIN:STANDARD
DTSTART:20251102T010000
TZOFFSETFROM:-0400
TZOFFSETTO:-0500
TZNAME:EST
END:STANDARD
END:VTIMEZONE
END:VCALENDAR