BEGIN:VCALENDAR
VERSION:2.0
PRODID:-//wp-events-plugin.com//7.2.3.1//EN
TZID:America/New_York
X-WR-TIMEZONE:America/New_York
BEGIN:VEVENT
UID:2464@swconline.org
DTSTART;TZID=America/New_York;VALUE=DATE:20251220
DTEND;TZID=America/New_York;VALUE=DATE:20251221
DTSTAMP:20251113T171116Z
URL:https://swconline.org/calendar-of-events/get-more-information-about-ev
 ents-activities-2025-12-20/
SUMMARY:Pittsburgh Ballet Theatre presents The Nutcracker
DESCRIPTION:SWC will buy tickets for our certified members and their childr
 en under 18. Meet at the Benedum entrance between 1 - 1:30 pm to get your 
 ticket. You must RSVP with a $10 copay in person during a wellness dinner 
 by Fri Dec 5th. Guest of members are welcome to join us with a $15 copay\,
  any additional guest will pay a $20 copay. See flyer for more info.
CATEGORIES:Outing
END:VEVENT
BEGIN:VTIMEZONE
TZID:America/New_York
X-LIC-LOCATION:America/New_York
BEGIN:STANDARD
DTSTART:20251102T010000
TZOFFSETFROM:-0400
TZOFFSETTO:-0500
TZNAME:EST
END:STANDARD
END:VTIMEZONE
END:VCALENDAR