BEGIN:VCALENDAR
VERSION:2.0
PRODID:-//wp-events-plugin.com//7.2.3.1//EN
TZID:America/New_York
X-WR-TIMEZONE:America/New_York
BEGIN:VEVENT
UID:2463@swconline.org
DTSTART;TZID=America/New_York;VALUE=DATE:20251219
DTEND;TZID=America/New_York;VALUE=DATE:20251220
DTSTAMP:20251113T170902Z
URL:https://swconline.org/calendar-of-events/get-more-information-about-ev
 ents-activities-2025-12-19/
SUMMARY:SWC Wellness Dinner & Annual Kool Yule Party (Activities Room)
DESCRIPTION:Doors open at our center for beverages at 4:30pm. Party begins 
 at 5pm with holiday singing\, visit by Santa from 5:30- 6pm\, followed by 
 gift raffles. Dinner is served at 6:30pm.
CATEGORIES:Special Event,Wellness Dinner
LOCATION:Shepherd Wellness Community\, 4800 Sciota Street\, Pittsburgh\, PA
 \, 15224\, United States
X-APPLE-STRUCTURED-LOCATION;VALUE=URI;X-ADDRESS=4800 Sciota Street\, Pittsb
 urgh\, PA\, 15224\, United States;X-APPLE-RADIUS=100;X-TITLE=Shepherd Well
 ness Community:geo:0,0
END:VEVENT
BEGIN:VTIMEZONE
TZID:America/New_York
X-LIC-LOCATION:America/New_York
BEGIN:STANDARD
DTSTART:20251102T010000
TZOFFSETFROM:-0400
TZOFFSETTO:-0500
TZNAME:EST
END:STANDARD
END:VTIMEZONE
END:VCALENDAR