BEGIN:VCALENDAR
VERSION:2.0
PRODID:-//wp-events-plugin.com//7.2.3.1//EN
TZID:America/New_York
X-WR-TIMEZONE:America/New_York
BEGIN:VEVENT
UID:2445@swconline.org
DTSTART;TZID=America/New_York:20251201T000000
DTEND;TZID=America/New_York:20251201T000000
DTSTAMP:20251113T164827Z
URL:https://swconline.org/calendar-of-events/get-more-information-about-ev
 ents-activities-2025-12-01/
SUMMARY:World AIDS Commemoration
DESCRIPTION:SWC is honored to host the Pitt Men’s Study annual World AIDS
  Day observance on Mon\, December 1st.\n\n5:30pm - Doors open on S.Matilhd
 a St.\n6- 7pm - Observance in Activities Room\n7-8pm - Food reception in D
 ining Room\n*Transportation assistance will be available for certified SWC
  members
CATEGORIES:Special Event
END:VEVENT
BEGIN:VTIMEZONE
TZID:America/New_York
X-LIC-LOCATION:America/New_York
BEGIN:STANDARD
DTSTART:20251102T010000
TZOFFSETFROM:-0400
TZOFFSETTO:-0500
TZNAME:EST
END:STANDARD
END:VTIMEZONE
END:VCALENDAR