BEGIN:VCALENDAR
VERSION:2.0
PRODID:-//wp-events-plugin.com//7.2.3.1//EN
TZID:America/New_York
X-WR-TIMEZONE:America/New_York
BEGIN:VEVENT
UID:2009@swconline.org
DTSTART;TZID=America/New_York:20240921T160000
DTEND;TZID=America/New_York:20240921T180000
DTSTAMP:20240913T195044Z
URL:https://swconline.org/calendar-of-events/get-more-information-about-ev
 ents-activities-2024-09-21/
SUMMARY:5801 Chili Cookoff Outing
DESCRIPTION:SWC will be a contestant in 5801 Bar &amp\; Video Lounge’s Ch
 ili Cookoff ! SWC will cover half of your cost to attend\, eat lots of chi
 li and vote on your favorite. Register during a dinner by Friday\, Septemb
 er 20th with a $5 copay.  For more information please click this link: h
 ttps://swconline.org/wp-content/uploads/2021/08/5801Chilicookoff-1.pdf
CATEGORIES:Outing
END:VEVENT
BEGIN:VTIMEZONE
TZID:America/New_York
X-LIC-LOCATION:America/New_York
BEGIN:DAYLIGHT
DTSTART:20240310T030000
TZOFFSETFROM:-0500
TZOFFSETTO:-0400
TZNAME:EDT
END:DAYLIGHT
END:VTIMEZONE
END:VCALENDAR