BEGIN:VCALENDAR
VERSION:2.0
PRODID:-//wp-events-plugin.com//7.2.3.1//EN
TZID:America/New_York
X-WR-TIMEZONE:America/New_York
BEGIN:VEVENT
UID:2002@swconline.org
DTSTART;TZID=America/New_York:20240914T120000
DTEND;TZID=America/New_York:20240914T130000
DTSTAMP:20240822T192942Z
URL:https://swconline.org/calendar-of-events/get-more-information-about-ev
 ents-activities-2024-09-14/
SUMMARY:Forest Bathing at Highland Park
DESCRIPTION:Join your Shepherd Wellness Community friends and a certified g
 uide for an immersive forest bathing walk to connect with the natural worl
 d and your community. We will meet at Highland park at noon to begin the w
 alk and end at 1pm. See flyer for more details.
CATEGORIES:Outing,Program
END:VEVENT
BEGIN:VTIMEZONE
TZID:America/New_York
X-LIC-LOCATION:America/New_York
BEGIN:DAYLIGHT
DTSTART:20240310T030000
TZOFFSETFROM:-0500
TZOFFSETTO:-0400
TZNAME:EDT
END:DAYLIGHT
END:VTIMEZONE
END:VCALENDAR