BEGIN:VCALENDAR
VERSION:2.0
PRODID:-//wp-events-plugin.com//7.2.3.1//EN
TZID:America/New_York
X-WR-TIMEZONE:America/New_York
BEGIN:VEVENT
UID:2001@swconline.org
DTSTART;TZID=America/New_York:20240913T163000
DTEND;TZID=America/New_York:20240913T193000
DTSTAMP:20240822T193958Z
URL:https://swconline.org/calendar-of-events/get-more-information-about-ev
 ents-activities-2024-09-13/
SUMMARY:SWC Red Ribbon Benefit Exhibit (September 13 - 27)
DESCRIPTION:\n\nA special viewing for SWC members. Members are welcome to g
 et a first look at the HIV/AIDS retrospective and some of the fashion desi
 gns that will be featured at our October 10th fundraiser.
CATEGORIES:Program,Special Event
END:VEVENT
BEGIN:VTIMEZONE
TZID:America/New_York
X-LIC-LOCATION:America/New_York
BEGIN:DAYLIGHT
DTSTART:20240310T030000
TZOFFSETFROM:-0500
TZOFFSETTO:-0400
TZNAME:EDT
END:DAYLIGHT
END:VTIMEZONE
END:VCALENDAR