BEGIN:VCALENDAR
VERSION:2.0
PRODID:-//wp-events-plugin.com//7.2.3.1//EN
TZID:America/New_York
X-WR-TIMEZONE:America/New_York
BEGIN:VEVENT
UID:1987@swconline.org
DTSTART;TZID=America/New_York:20240830T163000
DTEND;TZID=America/New_York:20240830T193000
DTSTAMP:20240723T162608Z
URL:https://swconline.org/calendar-of-events/get-more-information-about-ev
 ents-activities-2024-08-30/
SUMMARY:SWC Hawaiian Luau
DESCRIPTION:\n\nJoin us for a special time!\n\n4:30pm - Doors open on S. Ma
 thilda St. for beverages &amp\; social time\n5pm - Hula dance instruction 
 &amp\; Lei making in our Activities Room\n6:30pm - Hawaiian dinner in the 
 dining room\n\n&nbsp\;
CATEGORIES:Program,Special Event,Wellness Dinner
LOCATION:Shepherd Wellness Community\, 4800 Sciota Street\, Pittsburgh\, PA
 \, 15224\, United States
X-APPLE-STRUCTURED-LOCATION;VALUE=URI;X-ADDRESS=4800 Sciota Street\, Pittsb
 urgh\, PA\, 15224\, United States;X-APPLE-RADIUS=100;X-TITLE=Shepherd Well
 ness Community:geo:0,0
END:VEVENT
BEGIN:VTIMEZONE
TZID:America/New_York
X-LIC-LOCATION:America/New_York
BEGIN:DAYLIGHT
DTSTART:20240310T030000
TZOFFSETFROM:-0500
TZOFFSETTO:-0400
TZNAME:EDT
END:DAYLIGHT
END:VTIMEZONE
END:VCALENDAR