BEGIN:VCALENDAR
VERSION:2.0
PRODID:-//wp-events-plugin.com//7.2.3.1//EN
TZID:America/New_York
X-WR-TIMEZONE:America/New_York
BEGIN:VEVENT
UID:1980@swconline.org
DTSTART;TZID=America/New_York:20240823T163000
DTEND;TZID=America/New_York:20240823T193000
DTSTAMP:20240723T161958Z
URL:https://swconline.org/calendar-of-events/get-more-information-about-ev
 ents-activities-2024-08-23/
SUMMARY:SWC Annual Membership Meeting
DESCRIPTION:\n\nJoin us for our Annual SWC Member Meeting Friday\, August 2
 3rd before our Wellness Dinner. Doors open at 4:30pm for appetizers &amp\;
  beverages\, Meeting starts at 5:15pm\, Dinner will be served at 6:15pm.
CATEGORIES:Program,Wellness Dinner
LOCATION:Shepherd Wellness Community\, 4800 Sciota Street\, Pittsburgh\, PA
 \, 15224\, United States
X-APPLE-STRUCTURED-LOCATION;VALUE=URI;X-ADDRESS=4800 Sciota Street\, Pittsb
 urgh\, PA\, 15224\, United States;X-APPLE-RADIUS=100;X-TITLE=Shepherd Well
 ness Community:geo:0,0
END:VEVENT
BEGIN:VTIMEZONE
TZID:America/New_York
X-LIC-LOCATION:America/New_York
BEGIN:DAYLIGHT
DTSTART:20240310T030000
TZOFFSETFROM:-0500
TZOFFSETTO:-0400
TZNAME:EDT
END:DAYLIGHT
END:VTIMEZONE
END:VCALENDAR