BEGIN:VCALENDAR
VERSION:2.0
PRODID:-//wp-events-plugin.com//7.2.3.1//EN
TZID:America/New_York
X-WR-TIMEZONE:America/New_York
BEGIN:VEVENT
UID:1973@swconline.org
DTSTART;TZID=America/New_York:20240816T120000
DTEND;TZID=America/New_York:20240816T140000
DTSTAMP:20240724T154354Z
URL:https://swconline.org/calendar-of-events/get-more-information-about-ev
 ents-activities-2024-08-16/
SUMMARY:SWC at Allegheny Commons Park West
DESCRIPTION:\n\nJoin your Shepherd Wellness Community friends for a Bean Ba
 g Toss Tournament with prizes at noon. 1 pm  Picnic in Allegheny Commons 
 Park West near Lake Elizabeth. Bring a blanket and/or chair\, as there are
  no tables in the park. No dinner or support group that evening (Little It
 aly Days in Bloomfield).\nSee the flyer for more information.
CATEGORIES:Outing,Program,Wellness Dinner
END:VEVENT
BEGIN:VTIMEZONE
TZID:America/New_York
X-LIC-LOCATION:America/New_York
BEGIN:DAYLIGHT
DTSTART:20240310T030000
TZOFFSETFROM:-0500
TZOFFSETTO:-0400
TZNAME:EDT
END:DAYLIGHT
END:VTIMEZONE
END:VCALENDAR