BEGIN:VCALENDAR
VERSION:2.0
PRODID:-//wp-events-plugin.com//7.2.3.1//EN
TZID:America/New_York
X-WR-TIMEZONE:America/New_York
BEGIN:VEVENT
UID:1944@swconline.org
DTSTART;TZID=America/New_York:20240718T103000
DTEND;TZID=America/New_York:20240718T133000
DTSTAMP:20240620T154457Z
URL:https://swconline.org/calendar-of-events/get-more-information-about-ev
 ents-activities-2024-07-18/
SUMMARY:SWC & Allies for Health + Wellbeing Annual Kennywood Day
DESCRIPTION:Join us for an outing to Kennywood Amusement Park with Allies f
 or Health + Wellbeing and Shepherd Wellness Community on Thursday\, July 1
 8th. The deadline for ticket orders with payment was Friday\, June 14th. R
 SVPs for this event is closed.
CATEGORIES:Outing,Special Event
END:VEVENT
BEGIN:VTIMEZONE
TZID:America/New_York
X-LIC-LOCATION:America/New_York
BEGIN:DAYLIGHT
DTSTART:20240310T030000
TZOFFSETFROM:-0500
TZOFFSETTO:-0400
TZNAME:EDT
END:DAYLIGHT
END:VTIMEZONE
END:VCALENDAR