BEGIN:VCALENDAR
VERSION:2.0
PRODID:-//wp-events-plugin.com//7.2.3.1//EN
TZID:America/New_York
X-WR-TIMEZONE:America/New_York
BEGIN:VEVENT
UID:1931@swconline.org
DTSTART;TZID=America/New_York:20240705T120000
DTEND;TZID=America/New_York:20240705T140000
DTSTAMP:20240620T145148Z
URL:https://swconline.org/calendar-of-events/get-more-information-about-ev
 ents-activities-2024-07-05/
SUMMARY:SWC Cookout in Mellon Park
DESCRIPTION:\n\nJoin your Shepherd Wellness Community friends for a wellnes
 s walk and cookout on Friday\, July 5th from Noon- 2:00pm.\nOur certified 
 members\, one guest and members’ children under 18 are welcome. Meet at 
 the Mellon Park Shelter near the playground\n(Fifth Ave &amp\; Beechwood B
 lvd) in Shadyside at Noon.\n\nTeam bean bag toss tournament from noon to 1
 pm with prizes for the winning team.\n\nSWC will start serving food with b
 everages at 1pm.\n\nWhere: Mellon Park Shelter- Fifth Ave &amp\; Beechwood
  Blvd\, Pittsburgh\, PA 15206\nParking: Parking lot at Mellon Park Recreat
 ion Area (between playground &amp\; shelter) at Fifth Ave &amp\; Beechwood
 . Street parking is also available across the street on Beechwood Blvd.\nB
 us: See PRT for bus schedules and routes.
CATEGORIES:Special Event,Wellness Dinner
END:VEVENT
BEGIN:VTIMEZONE
TZID:America/New_York
X-LIC-LOCATION:America/New_York
BEGIN:DAYLIGHT
DTSTART:20240310T030000
TZOFFSETFROM:-0500
TZOFFSETTO:-0400
TZNAME:EDT
END:DAYLIGHT
END:VTIMEZONE
END:VCALENDAR