BEGIN:VCALENDAR
VERSION:2.0
PRODID:-//wp-events-plugin.com//7.2.3.1//EN
TZID:America/New_York
X-WR-TIMEZONE:America/New_York
BEGIN:VEVENT
UID:1918@swconline.org
DTSTART;TZID=America/New_York:20240622T110000
DTEND;TZID=America/New_York:20240622T140000
DTSTAMP:20240528T173805Z
URL:https://swconline.org/calendar-of-events/get-more-information-about-ev
 ents-activities-2024-06-22/
SUMMARY:Wellness Walk at Point State Park & Box lunch outing
DESCRIPTION:Join your Shepherd Wellness Community friends for some fresh ai
 r\, exercise and a box lunch for our certified members\, their children un
 der 18\, and one guest.\nMeet SWC staff downtown at the Gateway Tower\n(32
 0 Ft. Duquesne Blvd.) in the lobby at 11:00 am. We will complete a wellnes
 s walk taking in the sights around the Point. After the walk\, SWC will pr
 ovide a box lunch with beverages at 12 pm at the Gateway Tower. If you are
  unable to join us for the walk\, you are welcome to meet us for lunch. RS
 VP at a dinner requested (not required) by Wed June 19th for lunch plannin
 g.\nWhere: Gateway Tower 320 Ft. Duquesne Blvd. Pittsburgh\, PA 15222
CATEGORIES:Outing,Program
END:VEVENT
BEGIN:VTIMEZONE
TZID:America/New_York
X-LIC-LOCATION:America/New_York
BEGIN:DAYLIGHT
DTSTART:20240310T030000
TZOFFSETFROM:-0500
TZOFFSETTO:-0400
TZNAME:EDT
END:DAYLIGHT
END:VTIMEZONE
END:VCALENDAR