BEGIN:VCALENDAR
VERSION:2.0
PRODID:-//wp-events-plugin.com//7.2.3.1//EN
TZID:America/New_York
X-WR-TIMEZONE:America/New_York
BEGIN:VEVENT
UID:1905@swconline.org
DTSTART;TZID=America/New_York:20240609T140000
DTEND;TZID=America/New_York:20240609T160000
DTSTAMP:20240528T175121Z
URL:https://swconline.org/calendar-of-events/get-more-information-about-ev
 ents-activities-2024-06-09/
SUMMARY:The Coffin Maker Stage Play
DESCRIPTION:In this new installment of his century-spanning chronicle of th
 e Black experience inspired by his mentor August Wilson\, Pittsburgh theat
 er legend Mark Clayton Southers turns back the clock to 1849 Oklahoma. SWC
  will buy tickets for our members and one guest. Adults Only. Members and 
 their guest will pay a $5 copay for each ticket. You must RSVP in person d
 uring dinner at Shepherd Wellness Community by Monday\, June 3rd.\nWhere: 
 O’Reilly Theater at 621 Penn Avenue Pittsburgh PA 15222
CATEGORIES:Outing
END:VEVENT
BEGIN:VTIMEZONE
TZID:America/New_York
X-LIC-LOCATION:America/New_York
BEGIN:DAYLIGHT
DTSTART:20240310T030000
TZOFFSETFROM:-0500
TZOFFSETTO:-0400
TZNAME:EDT
END:DAYLIGHT
END:VTIMEZONE
END:VCALENDAR