BEGIN:VCALENDAR
VERSION:2.0
PRODID:-//wp-events-plugin.com//7.2.3.1//EN
TZID:America/New_York
X-WR-TIMEZONE:America/New_York
BEGIN:VEVENT
UID:1892@swconline.org
DTSTART;TZID=America/New_York:20240527T060000
DTEND;TZID=America/New_York:20240527T061500
DTSTAMP:20240418T175906Z
URL:https://swconline.org/calendar-of-events/get-more-information-about-ev
 ents-activities-2024-05-27/
SUMMARY:SWC Closed for Memorial Day
DESCRIPTION:
CATEGORIES:SWC Closed
END:VEVENT
BEGIN:VTIMEZONE
TZID:America/New_York
X-LIC-LOCATION:America/New_York
BEGIN:DAYLIGHT
DTSTART:20240310T030000
TZOFFSETFROM:-0500
TZOFFSETTO:-0400
TZNAME:EDT
END:DAYLIGHT
END:VTIMEZONE
END:VCALENDAR