BEGIN:VCALENDAR
VERSION:2.0
PRODID:-//wp-events-plugin.com//7.2.3.1//EN
TZID:America/New_York
X-WR-TIMEZONE:America/New_York
BEGIN:VEVENT
UID:1884@swconline.org
DTSTART;TZID=America/New_York:20240519T110000
DTEND;TZID=America/New_York:20240519T140000
DTSTAMP:20240418T174418Z
URL:https://swconline.org/calendar-of-events/get-more-information-about-ev
 ents-activities-2024-05-19/
SUMMARY:SWC Garden Brunch & Planting
DESCRIPTION:\n\nJoin us for garden planting in the SWC garden. Gardening re
 duces stress\, builds friendships\, and teaches us about how produce and h
 erbs can improve wellness. Doors open at 11am\, lunch served from 11:30am 
 -12:30pm with live entertainment\, planting from 12:30pm -2pm. Each certif
 ied member completing this entire program (11:30 am-2pm) receives a $5 gif
 t card. Children are welcome.
CATEGORIES:Brunch,Program,Wellness Dinner
END:VEVENT
BEGIN:VTIMEZONE
TZID:America/New_York
X-LIC-LOCATION:America/New_York
BEGIN:DAYLIGHT
DTSTART:20240310T030000
TZOFFSETFROM:-0500
TZOFFSETTO:-0400
TZNAME:EDT
END:DAYLIGHT
END:VTIMEZONE
END:VCALENDAR