BEGIN:VCALENDAR
VERSION:2.0
PRODID:-//wp-events-plugin.com//7.2.3.1//EN
TZID:America/New_York
X-WR-TIMEZONE:America/New_York
BEGIN:VEVENT
UID:1876@swconline.org
DTSTART;TZID=America/New_York:20240511T120000
DTEND;TZID=America/New_York:20240511T123000
DTSTAMP:20240418T175021Z
URL:https://swconline.org/calendar-of-events/get-more-information-about-ev
 ents-activities-2024-05-11/
SUMMARY:Andy Warhol in Iran
DESCRIPTION:\n\nThis imagined experience of an encounter with a young Irani
 an radical is a fiery\, thought-provoking drama about art\, revolution\, a
 nd discovering a world beyond yourself. SWC will buy tickets for our certi
 fied members\, their children under 18\, and one guest. Certified members 
 and their guest will pay a $5 copay for each ticket. The deadline to RSVP 
 for this event was Weds 4/24. Meet at the City Theatre entrance located at
  1300 Bingham St\, Pittsburgh\, PA 15203 on Sat\, May 11th between 12 pm 
 – 12:30 pm.
CATEGORIES:Outing,Program
END:VEVENT
BEGIN:VTIMEZONE
TZID:America/New_York
X-LIC-LOCATION:America/New_York
BEGIN:DAYLIGHT
DTSTART:20240310T030000
TZOFFSETFROM:-0500
TZOFFSETTO:-0400
TZNAME:EDT
END:DAYLIGHT
END:VTIMEZONE
END:VCALENDAR