BEGIN:VCALENDAR
VERSION:2.0
PRODID:-//wp-events-plugin.com//7.2.3.1//EN
TZID:America/New_York
X-WR-TIMEZONE:America/New_York
BEGIN:VEVENT
UID:1848@swconline.org
DTSTART;TZID=America/New_York:20240413T120000
DTEND;TZID=America/New_York:20240413T130000
DTSTAMP:20240320T191116Z
URL:https://swconline.org/calendar-of-events/get-more-information-about-ev
 ents-activities-2024-04-13/
SUMMARY:An Afternoon at Phipps Conservatory
DESCRIPTION:\n\nMeet us at the Phipps Conservatory in Oakland to see the ne
 w Spring flowers. SWC will buy tickets for our certified members\, and the
 ir children under 18\, and one guest. Certified members and their guest wi
 ll pay a $3 copay for each ticket. For tickets please RSVP in person at a 
 dinner by Weds 4/10. Meet at the Phipps entrance between 12 pm - 1 pm to g
 et your ticket.\n\n
CATEGORIES:Program,Special Event
END:VEVENT
BEGIN:VTIMEZONE
TZID:America/New_York
X-LIC-LOCATION:America/New_York
BEGIN:DAYLIGHT
DTSTART:20240310T030000
TZOFFSETFROM:-0500
TZOFFSETTO:-0400
TZNAME:EDT
END:DAYLIGHT
END:VTIMEZONE
END:VCALENDAR