BEGIN:VCALENDAR
VERSION:2.0
PRODID:-//wp-events-plugin.com//7.2.3.1//EN
TZID:America/New_York
X-WR-TIMEZONE:America/New_York
BEGIN:VEVENT
UID:910@swconline.org
DTSTART;TZID=America/New_York:20220415T190000
DTEND;TZID=America/New_York:20220415T191500
DTSTAMP:20220331T192150Z
URL:https://swconline.org/calendar-of-events/friday-fresh-meals-for-pick-u
 p-2022-04-15/
SUMMARY:Friday Fresh Meals for Pick-Up
DESCRIPTION:For a limited time\, for members who are not vaccinated OR are 
 not comfortable attending in-person dinners OR were not able to make Frida
 y reservations\, we will have fresh meals available (2 per member) for pic
 k-up at our SCIOTA ST. ENTRANCE Fridays 7:00-7:15 pm. You must call us (41
 2-683-4477) by noon that day so we can be prepared for you.
LOCATION:Shepherd Wellness Community\, 4800 Sciota Street\, Pittsburgh\, PA
 \, 15224\, United States
X-APPLE-STRUCTURED-LOCATION;VALUE=URI;X-ADDRESS=4800 Sciota Street\, Pittsb
 urgh\, PA\, 15224\, United States;X-APPLE-RADIUS=100;X-TITLE=Shepherd Well
 ness Community:geo:0,0
END:VEVENT
BEGIN:VTIMEZONE
TZID:America/New_York
X-LIC-LOCATION:America/New_York
BEGIN:DAYLIGHT
DTSTART:20220313T030000
TZOFFSETFROM:-0500
TZOFFSETTO:-0400
TZNAME:EDT
END:DAYLIGHT
END:VTIMEZONE
END:VCALENDAR