BEGIN:VCALENDAR
VERSION:2.0
PRODID:-//wp-events-plugin.com//7.2.3.1//EN
TZID:America/New_York
X-WR-TIMEZONE:America/New_York
BEGIN:VEVENT
UID:4390@swconline.org
DTSTART;TZID=America/New_York:20260126T180000
DTEND;TZID=America/New_York:20260126T184500
DTSTAMP:20251216T165824Z
URL:https://swconline.org/calendar-of-events/chair-massage/
SUMMARY:Massage Therapy
DESCRIPTION:15 minute therapeutic chair massage appointments are available 
 at no cost to our certified members from 6-6:45pm. See a check-in staff me
 mber at a dinner to schedule your appointment and learn appointment guidel
 ines.\nSign ups for January massage sessions begin on Mon\, January 5th.
CATEGORIES:Program
END:VEVENT
BEGIN:VTIMEZONE
TZID:America/New_York
X-LIC-LOCATION:America/New_York
BEGIN:STANDARD
DTSTART:20251102T010000
TZOFFSETFROM:-0400
TZOFFSETTO:-0500
TZNAME:EST
END:STANDARD
END:VTIMEZONE
END:VCALENDAR