BEGIN:VCALENDAR
VERSION:2.0
PRODID:-//wp-events-plugin.com//7.2.3.1//EN
TZID:America/New_York
X-WR-TIMEZONE:America/New_York
BEGIN:VEVENT
UID:913@swconline.org
DTSTART;TZID=America/New_York:20220423T113000
DTEND;TZID=America/New_York:20220423T113000
DTSTAMP:20220315T163834Z
URL:https://swconline.org/calendar-of-events/allies-swc-spring-luncheon-at
 -national-aviary/
SUMMARY:Allies & SWC Spring Luncheon at National Aviary
DESCRIPTION:An adult-only (18+) event for Allies &amp\; SWC members\, clien
 ts\, staff\, board members and their guests. Join us for a luncheon\, soci
 al time\, and a chance to explore the National Aviary. Luncheon will be at
  11:30am. Tickets for certified members and their first guest are $10 each
 . Tickets include lunch and admission to the National Aviary. Deadline for
  reservations is 4/11. Proof of full COVID-19 vaccination is required to a
 ttend.
LOCATION:National Aviary\, 700 Arch Street\, Pittsburgh\, PA\, 15212\, Unit
 ed States
X-APPLE-STRUCTURED-LOCATION;VALUE=URI;X-ADDRESS=700 Arch Street\, Pittsburg
 h\, PA\, 15212\, United States;X-APPLE-RADIUS=100;X-TITLE=National Aviary:
 geo:0,0
END:VEVENT
BEGIN:VTIMEZONE
TZID:America/New_York
X-LIC-LOCATION:America/New_York
BEGIN:DAYLIGHT
DTSTART:20220313T030000
TZOFFSETFROM:-0500
TZOFFSETTO:-0400
TZNAME:EDT
END:DAYLIGHT
END:VTIMEZONE
END:VCALENDAR