BEGIN:VCALENDAR
VERSION:2.0
PRODID:-//wp-events-plugin.com//7.2.3.1//EN
TZID:America/New_York
X-WR-TIMEZONE:America/New_York
BEGIN:VEVENT
UID:970@swconline.org
DTSTART;TZID=America/New_York:20220721T110000
DTEND;TZID=America/New_York:20220721T190000
DTSTAMP:20220707T203958Z
URL:https://swconline.org/calendar-of-events/allies-swc-kennywood-outing-2
 /
SUMMARY:Allies / SWC Kennywood Outing
DESCRIPTION:Join us for our annual Day at Kennywood Park on Thursday\, July
  21st. Included is a Ride-All-Day Ticket\, free soda fountain from 1-4 PM 
 and an All-You-Can-Eat Buffet at 2 PM in our private pavilion. Ticket orde
 r forms and payment must be in our office by Wednesday\, July 13th. Kennyw
 ood opens at 11am. Tickets will be distributed until 1:30pm.
LOCATION:Kennywood Park\, 4800 Kennywood Blvd.\, West Mifflin\, PA\, 15122\
 , United States
X-APPLE-STRUCTURED-LOCATION;VALUE=URI;X-ADDRESS=4800 Kennywood Blvd.\, West
  Mifflin\, PA\, 15122\, United States;X-APPLE-RADIUS=100;X-TITLE=Kennywood
  Park:geo:0,0
END:VEVENT
BEGIN:VTIMEZONE
TZID:America/New_York
X-LIC-LOCATION:America/New_York
BEGIN:DAYLIGHT
DTSTART:20220313T030000
TZOFFSETFROM:-0500
TZOFFSETTO:-0400
TZNAME:EDT
END:DAYLIGHT
END:VTIMEZONE
END:VCALENDAR