BEGIN:VCALENDAR
VERSION:2.0
PRODID:-//wp-events-plugin.com//7.2.3.1//EN
TZID:America/New_York
X-WR-TIMEZONE:America/New_York
BEGIN:VEVENT
UID:844@swconline.org
DTSTART;TZID=America/New_York:20211210T190000
DTEND;TZID=America/New_York:20211210T194500
DTSTAMP:20211129T154523Z
URL:https://swconline.org/calendar-of-events/a-holiday-program-strength-in
 -community-remembrance-and-resilience/
SUMMARY:A Holiday Program: Strength in Community: Remembrance and Resilienc
 e
DESCRIPTION:A Holiday Program\nStrength in Community: Remembrance and Resil
 ience 7pm: Friday 12/10 via Zoom\n\n&nbsp\;\n\nJoin us for an evening of h
 oliday music\, storytelling\, and a time remembering those in our communit
 y who have passed away this year.\nIf you do not receive our weekly email 
 with a link to the Zoom Holiday Program\, please email us at office@swconl
 ine.org to receive a link or call us at 412-683-4477 to receive the call-i
 n code.
END:VEVENT
BEGIN:VTIMEZONE
TZID:America/New_York
X-LIC-LOCATION:America/New_York
BEGIN:STANDARD
DTSTART:20211107T010000
TZOFFSETFROM:-0400
TZOFFSETTO:-0500
TZNAME:EST
END:STANDARD
END:VTIMEZONE
END:VCALENDAR